BEGIN:VCALENDAR
VERSION:2.0
PRODID:-//PYVOBJECT//NONSGML Version 0.9.9//EN
X-WR-TIMEZONE:Africa/Johannesburg
BEGIN:VTIMEZONE
TZID:Africa/Johannesburg
BEGIN:STANDARD
DTSTART:20000101T000000
RRULE:FREQ=YEARLY;BYMONTH=1
TZNAME:SAST
TZOFFSETFROM:+0200
TZOFFSETTO:+0200
END:STANDARD
END:VTIMEZONE
BEGIN:VEVENT
UID:20260425T162101Z - 73336@eos-content
DTSTART;TZID=Africa/Johannesburg:20260427T150000
DTEND;TZID=Africa/Johannesburg:20260427T180000
ATTENDEE:MAILTO:roux@vered.co.za
DESCRIPTION:https://www.vered.co.za/results/residential/for-sale/randburg/b
 oskruin/house/2963791/\n\nView by Appointment ONLY - Please get in touch w
 ith Pieter Roux to book your viewing.\n\nPieter Roux (083 572 8080)
DTSTAMP:20260425T162101Z
LOCATION:Boskruin\, Randburg
SUMMARY:Vered Estates Show Day - RL9783
END:VEVENT
END:VCALENDAR
